BEGIN:VCALENDAR
VERSION:2.0
PRODID:-//Billie Joan - ECPv5.9.0//NONSGML v1.0//EN
CALSCALE:GREGORIAN
METHOD:PUBLISH
X-WR-CALNAME:Billie Joan
X-ORIGINAL-URL:https://billie-joan.com
X-WR-CALDESC:Događaji za Billie Joan
BEGIN:VTIMEZONE
TZID:Europe/Zagreb
BEGIN:DAYLIGHT
TZOFFSETFROM:+0100
TZOFFSETTO:+0200
TZNAME:CEST
DTSTART:20190331T010000
END:DAYLIGHT
BEGIN:STANDARD
TZOFFSETFROM:+0200
TZOFFSETTO:+0100
TZNAME:CET
DTSTART:20191027T010000
END:STANDARD
END:VTIMEZONE
BEGIN:VEVENT
DTSTART;VALUE=DATE:20191108
DTEND;VALUE=DATE:20191110
DTSTAMP:20260421T142520
CREATED:20191024T200145Z
LAST-MODIFIED:20200422T144119Z
UID:2207-1573171200-1573343999@billie-joan.com
SUMMARY:ST-art 2019 - Split\, Hrvatska
DESCRIPTION:Festival autorskih bendova ST-art 2019 je odlučio proslaviti desetu godinu postojanja. Najistaknutijim bendovima prošlih devet izdanja ST-art-a\, pridružiti će se Justin’s Johnson i Kries. \nU petak 8.11.2019.\, u Judinom drvu sa početkom u 21:30h nastupit će: Justin’s Johnson\, Mind Zoo\, Flying Head Bend\, The Splitters i Billie Joan. \nCijena karte za jednu večer je 35kn u pretprodaji\, dok će na ulazu cijena iznositi 50kn. Pretprodajna mjesta su Splash Caffe Bar i Split Circus (Monty Python)\, a pretprodaja započenje 21.10.2019.
URL:https://billie-joan.com/hr/nastup/st-art-2019-split-hrvatska/
LOCATION:Judino Drvo\, Kopilica 24\, Split\, 21000\, Croatia
ATTACH;FMTTYPE=image/jpeg:https://billie-joan.com/wp-content/uploads/st-art-billie-joan-1.jpg
ORGANIZER;CN="ST-art":MAILTO:uzgstop@gmail.com
END:VEVENT
END:VCALENDAR