BEGIN:VCALENDAR
VERSION:2.0
PRODID:-//Billie Joan - ECPv5.9.0//NONSGML v1.0//EN
CALSCALE:GREGORIAN
METHOD:PUBLISH
X-WR-CALNAME:Billie Joan
X-ORIGINAL-URL:https://billie-joan.com
X-WR-CALDESC:Događaji za Billie Joan
BEGIN:VTIMEZONE
TZID:Europe/Zagreb
BEGIN:DAYLIGHT
TZOFFSETFROM:+0100
TZOFFSETTO:+0200
TZNAME:CEST
DTSTART:20200329T010000
END:DAYLIGHT
BEGIN:STANDARD
TZOFFSETFROM:+0200
TZOFFSETTO:+0100
TZNAME:CET
DTSTART:20201025T010000
END:STANDARD
END:VTIMEZONE
BEGIN:VEVENT
DTSTART;TZID=Europe/Zagreb:20200130T080000
DTEND;TZID=Europe/Zagreb:20200130T170000
DTSTAMP:20260421T154850
CREATED:20200324T191454Z
LAST-MODIFIED:20200422T144053Z
UID:3332-1580371200-1580403600@billie-joan.com
SUMMARY:Škrabica u Booksi - Zagreb\, Hrvatska
DESCRIPTION:Osim guštanja u odličnoj svirci\, jednom mjesečno Škrabica vam pruža priliku da učinite dobro djelo. Naime\, upad se ne naplaćuje\, a u svirku koju ćete čuti uloženo je vrijeme\, trud\, entuzijazam\, pa je onda fer i suvislo da glazbenici dobiju nešto zauzvrat. A to ‘nešto’ su dobrovoljni novčani prilozi koje publika može ubaciti u škrabicu. Sva prikupljena lova ide glazbenicima. Osim toga\, Škraba je drugačija i po tome što se izvođače sluša u tišini. \nNema razgovaranja\, bilo međusobno\, bilo na mobitel\, žamora\, šuškanja\, šaptanja i došaptavanja zato jer je to bezobrazno i omalovažavajuće prema izvođačima\, a i ne bi se ništa čulo jer je svirka akustična\, nema struje. Pa ako biste dali ruku u vatru da nema tog mjesta gdje možeš slušati muziku u tišini i stvarno je\, baš stvarno dobro čuti\, nemojte. Dođite nam na Škrabicu i doživite to skoro pa endemsko iskustvo.
URL:https://billie-joan.com/hr/nastup/skrabica-u-booksi-zagreb-hrvatska/
LOCATION:Booksa\, Martićeva 14d\, Zagreb\, 10000\, Croatia
ATTACH;FMTTYPE=image/jpeg:https://billie-joan.com/wp-content/uploads/skrabica-u-booksi-billie-joan.jpg
ORGANIZER;CN="Booksa":MAILTO:booksa@booksa.hr
END:VEVENT
END:VCALENDAR