BEGIN:VCALENDAR
VERSION:2.0
PRODID:-//Billie Joan - ECPv5.9.0//NONSGML v1.0//EN
CALSCALE:GREGORIAN
METHOD:PUBLISH
X-WR-CALNAME:Billie Joan
X-ORIGINAL-URL:https://billie-joan.com
X-WR-CALDESC:Događaji za Billie Joan
BEGIN:VTIMEZONE
TZID:Europe/Zagreb
BEGIN:DAYLIGHT
TZOFFSETFROM:+0100
TZOFFSETTO:+0200
TZNAME:CEST
DTSTART:20180325T010000
END:DAYLIGHT
BEGIN:STANDARD
TZOFFSETFROM:+0200
TZOFFSETTO:+0100
TZNAME:CET
DTSTART:20181028T010000
END:STANDARD
END:VTIMEZONE
BEGIN:VEVENT
DTSTART;VALUE=DATE:20180608
DTEND;VALUE=DATE:20180610
DTSTAMP:20260419T184422
CREATED:20190916T140034Z
LAST-MODIFIED:20200422T141637Z
UID:2131-1528416000-1528588799@billie-joan.com
SUMMARY:Poezika festival - Novi Sad\, Srbija
DESCRIPTION:Poezika festival u svom osmom izdanju\, odvijat će se 8. i 9. lipnja 2018. godine\, u Kulturnom centru Novog Sada. Prvu festivalsku večer otvorit će mlada kantautorica Billie Joan. Ova kantautorica iz Splita pobjednica je natječaja za posebne sudionike festivala. Glasovima stručnog žirija Billie je odabrana kao predstavnica svih onih kantautora iz regije koji su se odazvali pozivu na natječaj. Spremna je na angažiranost i raspoložena da pjesmom ukaže na slabosti društva i vremena u kojem živimo. Billie Joan će pokazati koliko je Poezika festival natječaj za posebne sudionike važan sudionicima\, ali i publici koja ih po prvi put upoznaje.
URL:https://billie-joan.com/hr/nastup/poezika-festival-novi-sad-srbija/
LOCATION:Novi Sad Cultural center\, Katolička porta 5\, 21000\, Novi Sad\, 21101\, Serbia
ATTACH;FMTTYPE=image/jpeg:https://billie-joan.com/wp-content/uploads/poezika-festival-billie-joan-1.jpg
ORGANIZER;CN="Poezika%20Festival":MAILTO:info@poezika.com
END:VEVENT
END:VCALENDAR