BEGIN:VCALENDAR
VERSION:2.0
PRODID:-//Billie Joan - ECPv5.9.0//NONSGML v1.0//EN
CALSCALE:GREGORIAN
METHOD:PUBLISH
X-WR-CALNAME:Billie Joan
X-ORIGINAL-URL:https://billie-joan.com
X-WR-CALDESC:Događaji za Billie Joan
BEGIN:VTIMEZONE
TZID:Europe/Zagreb
BEGIN:DAYLIGHT
TZOFFSETFROM:+0100
TZOFFSETTO:+0200
TZNAME:CEST
DTSTART:20170326T010000
END:DAYLIGHT
BEGIN:STANDARD
TZOFFSETFROM:+0200
TZOFFSETTO:+0100
TZNAME:CET
DTSTART:20171029T010000
END:STANDARD
END:VTIMEZONE
BEGIN:VEVENT
DTSTART;TZID=Europe/Zagreb:20170427T080000
DTEND;TZID=Europe/Zagreb:20170427T170000
DTSTAMP:20260421T161125
CREATED:20190916T142744Z
LAST-MODIFIED:20200422T142940Z
UID:2143-1493280000-1493312400@billie-joan.com
SUMMARY:Mladi Splitski glazbenici - Split\, Hrvatska
DESCRIPTION:Mladi Splitski glazbenici – Nije tajna da je Split oduvijek bio grad sa zanimljivom glazbenom scenom. Kako grad živi najbolje se vidi kroz objektiv umjetnika. Oni govore o njemu i o sebi\, o ljubavi\, o društvu i drugim temama koje mladi umjetnici smatraju zanimljivim. \nTko su nova imena na splitskoj underground glazbenoj sceni i kakav izraz u njoj dominira? Što misle o mainstream glazbi u Hrvatskoj? S kojim se problemima susreću kao mladi glazbenici? Ovo su samo neka od pitanja na koja će dati odgovore: \nIvana Pezo aka Billie Joan\, Jure Kalajzic Kali (Azil)\, Bernard Andrijašević (Justin’s Johnson) i Ivan Lampalov (eto).
URL:https://billie-joan.com/hr/nastup/mladi-splitski-glazbenici-split-hrvatska/
LOCATION:Klub Mladih Split\, Ruđera Boškovića 20/II\, Split\, 21000\, Croatia
ATTACH;FMTTYPE=image/jpeg:https://billie-joan.com/wp-content/uploads/tribina-mladi-splitski-glazbenici-2.jpg
ORGANIZER;CN="Klub%20Mladih%20Split":MAILTO:info@klubmladihsplit.hr
END:VEVENT
END:VCALENDAR