BEGIN:VCALENDAR
VERSION:2.0
PRODID:-//Billie Joan - ECPv5.9.0//NONSGML v1.0//EN
CALSCALE:GREGORIAN
METHOD:PUBLISH
X-WR-CALNAME:Billie Joan
X-ORIGINAL-URL:https://billie-joan.com
X-WR-CALDESC:Događaji za Billie Joan
BEGIN:VTIMEZONE
TZID:Europe/Zagreb
BEGIN:DAYLIGHT
TZOFFSETFROM:+0100
TZOFFSETTO:+0200
TZNAME:CEST
DTSTART:20160327T010000
END:DAYLIGHT
BEGIN:STANDARD
TZOFFSETFROM:+0200
TZOFFSETTO:+0100
TZNAME:CET
DTSTART:20161030T010000
END:STANDARD
END:VTIMEZONE
BEGIN:VEVENT
DTSTART;VALUE=DATE:20160804
DTEND;VALUE=DATE:20160808
DTSTAMP:20260421T175128
CREATED:20191024T211016Z
LAST-MODIFIED:20200422T143006Z
UID:2218-1470268800-1470614399@billie-joan.com
SUMMARY:Ferragosto JAM - Orahovica\, Hrvatska
DESCRIPTION:Ferragosto JAM je glazbeni festival smješten uz živopisno Orahovačko jezero u podnožju planine Papuk. Započeo kao druženje prijatelja uz roštilj i improviziranu pozornicu\, u 11 godina narastao je u najveći festival u ovom dijelu Hrvatske. Postav se često bazira na više od 40 domaćih/regionalnih izvođača. Glavna misija ovog festivala je promicanje mladih autora te generalno podupiranja jake domaće glazbene scene. Lokacija tik uz Orahovačko jezero privlači svake godine više od 15 tisuća mladih usred ljetne sezone u kontinentalnu Hrvatsku.
URL:https://billie-joan.com/hr/nastup/ferragosto-jam-orahovica-hrvatska/
LOCATION:Orahovačko jezero\, Jezerska bb\, Duzluk\, Orahovica\, Croatia
ATTACH;FMTTYPE=image/jpeg:https://billie-joan.com/wp-content/uploads/ferragosto-jam-9-billie-joan-2.jpg
ORGANIZER;CN="Udruga%20K.LU.B.%20Dostava%20zvuka":MAILTO:dostava.zvuka@gmail.com
END:VEVENT
END:VCALENDAR