BEGIN:VCALENDAR
VERSION:2.0
PRODID:-//Billie Joan - ECPv5.9.0//NONSGML v1.0//EN
CALSCALE:GREGORIAN
METHOD:PUBLISH
X-WR-CALNAME:Billie Joan
X-ORIGINAL-URL:https://billie-joan.com
X-WR-CALDESC:Događaji za Billie Joan
BEGIN:VTIMEZONE
TZID:Europe/Zagreb
BEGIN:DAYLIGHT
TZOFFSETFROM:+0100
TZOFFSETTO:+0200
TZNAME:CEST
DTSTART:20150329T010000
END:DAYLIGHT
BEGIN:STANDARD
TZOFFSETFROM:+0200
TZOFFSETTO:+0100
TZNAME:CET
DTSTART:20151025T010000
END:STANDARD
END:VTIMEZONE
BEGIN:VEVENT
DTSTART;VALUE=DATE:20150612
DTEND;VALUE=DATE:20150614
DTSTAMP:20260421T175748
CREATED:20191024T214713Z
LAST-MODIFIED:20200422T143234Z
UID:2229-1434067200-1434239999@billie-joan.com
SUMMARY:Exposure Festival - Velika Gorica\, Hrvatska
DESCRIPTION:Exposure Festival osmišljen je tako da na osam pozornica posloženih u krug\, istovremeno boravi osam izvođača/kantautora posloženih prema stranama svijeta. Svaki izvođač/kantautor izvodi jednu pjesmu po krugu\, te prvi do njega nastavlja sa svojom izvedbom i tako minimalno pet krugova. \nPublika se nalazi unutar kruga i uloge su izmjenjene – publika je okružena izvođačima. Budući da se festival odvija na otvorenom\, posjetiteljima se predlaže da ponesu dekice kako bi u potpunosti doživjeli atmosferu Exposure festivala opuštajući se na travi. \nOd 20:00 sati kreće službeni festivalski program koji će trajati do 23:00 i nakon kojega se svi protagonisti sele u klub Cabana bar. Tu će se od 23:30 održati službena dodjela statua festivala i afterparty. Ove godine Exposure Festival će ugostiti i pobjednika 19. HGF Demo Festivala u kategoriji ‘Kantautor’ – Vladimira Kuzmana iz Buja. Cjelokupni program\, uključujući i afterparty\, je besplatan.
URL:https://billie-joan.com/hr/nastup/exposure-festival-velika-gorica-hrvatska/
LOCATION:Park Franje Tuđmana\, Velika Gorica\, 10410\, Croatia
ATTACH;FMTTYPE=image/jpeg:https://billie-joan.com/wp-content/uploads/exposure-festival-billie-joan-1.jpg
ORGANIZER;CN="Exposure%20Festival":MAILTO:exposuremusicfestival@gmail.com
END:VEVENT
END:VCALENDAR