BEGIN:VCALENDAR
VERSION:2.0
PRODID:-//Billie Joan - ECPv5.9.0//NONSGML v1.0//EN
CALSCALE:GREGORIAN
METHOD:PUBLISH
X-WR-CALNAME:Billie Joan
X-ORIGINAL-URL:https://billie-joan.com
X-WR-CALDESC:Događaji za Billie Joan
BEGIN:VTIMEZONE
TZID:Europe/Zagreb
BEGIN:DAYLIGHT
TZOFFSETFROM:+0100
TZOFFSETTO:+0200
TZNAME:CEST
DTSTART:20210328T010000
END:DAYLIGHT
BEGIN:STANDARD
TZOFFSETFROM:+0200
TZOFFSETTO:+0100
TZNAME:CET
DTSTART:20211031T010000
END:STANDARD
END:VTIMEZONE
BEGIN:VEVENT
DTSTART;TZID=Europe/Zagreb:20210619T080000
DTEND;TZID=Europe/Zagreb:20210620T170000
DTSTAMP:20260421T142503
CREATED:20230224T104314Z
LAST-MODIFIED:20230224T104314Z
UID:5368-1624089600-1624208400@billie-joan.com
SUMMARY:Druga ženska gitarijada - Knin\, Hrvatska
DESCRIPTION:
URL:https://billie-joan.com/hr/nastup/druga-zenska-gitarijada-knin-hrvatska/
LOCATION:Club A3\, Tomislavova 85\, Knin\, 22300\, Croatia (Local Name: Hrvatska)
ATTACH;FMTTYPE=image/jpeg:https://billie-joan.com/wp-content/uploads/druga-zenska-gitarijada-knin-billie-joan.jpg
ORGANIZER;CN="Udruga%20Atribut":MAILTO:udruga.atribut@gmail.com
END:VEVENT
END:VCALENDAR