BEGIN:VCALENDAR
VERSION:2.0
PRODID:-//Billie Joan - ECPv5.9.0//NONSGML v1.0//EN
CALSCALE:GREGORIAN
METHOD:PUBLISH
X-WR-CALNAME:Billie Joan
X-ORIGINAL-URL:https://billie-joan.com
X-WR-CALDESC:Events for Billie Joan
BEGIN:VTIMEZONE
TZID:Europe/Zagreb
BEGIN:DAYLIGHT
TZOFFSETFROM:+0100
TZOFFSETTO:+0200
TZNAME:CEST
DTSTART:20200329T010000
END:DAYLIGHT
BEGIN:STANDARD
TZOFFSETFROM:+0200
TZOFFSETTO:+0100
TZNAME:CET
DTSTART:20201025T010000
END:STANDARD
END:VTIMEZONE
BEGIN:VEVENT
DTSTART;TZID=Europe/Zagreb:20200130T200000
DTEND;TZID=Europe/Zagreb:20200130T220000
DTSTAMP:20260420T115359
CREATED:20200323T214610Z
LAST-MODIFIED:20210430T131844Z
UID:3636-1580414400-1580421600@billie-joan.com
SUMMARY:Skrabica in Booksa - Zagreb\, Croatia
DESCRIPTION:In addition to enjoying a great gig\, once a month Skrabica gives you the opportunity to do a good deed. Namely\, the entrance is free of charge\, and the gig you will hear took time\, effort\, and enthusiasm so it is only fair for the musicians to get something in return. And that ‘something’ are voluntary cash contributions that the audience can give. All the money collected goes to musicians. \nIn addition\, Skrabica is different in that the performers are listened to in silence. There is no talking\, either to each other\, or on a cellphone\, no murmur or whispers because it is rude and disparaging to the performers\, and nothing could be heard because the gig is acoustic. If you are the type that would put your hand in the fire that there is no place where you can listen to the music in silence\, and really\, actually hear it\, don’t. Come to us at Skrabica and experience this almost endemic experience.
URL:https://billie-joan.com/event/skrabica-in-booksa-zagreb-hrvatska/
LOCATION:Martićeva 14d\, Zagreb\, 10000
ATTACH;FMTTYPE=image/jpeg:https://billie-joan.com/wp-content/uploads/skrabica-u-booksi-billie-joan.jpg
END:VEVENT
END:VCALENDAR